BEGIN:VCALENDAR
VERSION:2.0
PRODID:-//The Writers&#039; Colony at Dairy Hollow - ECPv6.15.20//NONSGML v1.0//EN
CALSCALE:GREGORIAN
METHOD:PUBLISH
X-WR-CALNAME:The Writers&#039; Colony at Dairy Hollow
X-ORIGINAL-URL:https://writerscolony.org
X-WR-CALDESC:Events for The Writers&#039; Colony at Dairy Hollow
REFRESH-INTERVAL;VALUE=DURATION:PT1H
X-Robots-Tag:noindex
X-PUBLISHED-TTL:PT1H
BEGIN:VTIMEZONE
TZID:America/Chicago
BEGIN:DAYLIGHT
TZOFFSETFROM:-0600
TZOFFSETTO:-0500
TZNAME:CDT
DTSTART:20240310T080000
END:DAYLIGHT
BEGIN:STANDARD
TZOFFSETFROM:-0500
TZOFFSETTO:-0600
TZNAME:CST
DTSTART:20241103T070000
END:STANDARD
BEGIN:DAYLIGHT
TZOFFSETFROM:-0600
TZOFFSETTO:-0500
TZNAME:CDT
DTSTART:20250309T080000
END:DAYLIGHT
BEGIN:STANDARD
TZOFFSETFROM:-0500
TZOFFSETTO:-0600
TZNAME:CST
DTSTART:20251102T070000
END:STANDARD
BEGIN:DAYLIGHT
TZOFFSETFROM:-0600
TZOFFSETTO:-0500
TZNAME:CDT
DTSTART:20260308T080000
END:DAYLIGHT
BEGIN:STANDARD
TZOFFSETFROM:-0500
TZOFFSETTO:-0600
TZNAME:CST
DTSTART:20261101T070000
END:STANDARD
END:VTIMEZONE
BEGIN:VEVENT
DTSTART;TZID=America/Chicago:20250717T180000
DTEND;TZID=America/Chicago:20250717T200000
DTSTAMP:20260422T091604
CREATED:20250530T192540Z
LAST-MODIFIED:20250530T193328Z
UID:26019-1752775200-1752782400@writerscolony.org
SUMMARY:July PoetLuck - Featuring Doug "Riverman" Allen
DESCRIPTION:WCDH is proud to bring Doug Allen to WCDH for for the first time to read at our July Poetluck! \nDoug Allen\, aka: The Riverman\, the author of the book: ‘The Riverman’s Guide to the Kings River’. Doug was born and raised in the hills of Northwest Arkansas. His home on Onyx Cave Road was just a couple of dirt road miles away from the beautiful Kings River just outside the quaint little tourist town of Eureka Springs. He grew up with a family of Arkansas fishermen and biologists who had a huge passion for anything related to bodies of water and fish. In his lifetime he has fished creeks\, farm ponds\, lakes\, and especially rivers. His summers were spent swimming\, canoeing\, and fishing most stretches of the Kings River that meanders slowly and peacefully through the beautiful Ozark Mountains. Over the many years he has gotten to know the Kings River like the back of his hand. Doug says “I feel its pulse. I long for it when I’m away. It’s a huge part of who I am. Although I now live in Fayetteville Arkansas with my family of river rats\, I can often be found kayaking\, guiding or wade fishing on the beautiful Kings River in the spring\, summer and fall.” \nWe are delighted to invite you to attend Poetluck\, an open mic style poetry reading event at The Writers’ Colony at Dairy Hollow (WCDH). Poetluck provides a supportive and inclusive space for writers to share their work and connect with fellow literary enthusiasts in the community. We welcome writers of all genres and experience levels to join us and share their poems\, stories\, and essays with our audience. The evening starts with a potluck meal at 6:00 PM\, bring a dish to share or not\, there is always enough. The open mic style readings start at 6:30 PM. \nThis Poetluck is sponsored by Adventure Art
URL:https://writerscolony.org/event/july-poetluck-featuring-doug-riverman-allen/
LOCATION:The Writers’ Colony at Dairy Hollow\, The Writers' Colony at Dairy Hollow\, Eureka Springs\, AR\, 72632\, United States
CATEGORIES:Poetluck
ATTACH;FMTTYPE=image/jpeg:https://writerscolony.org/wp-content/uploads/2025/05/July-2025-PoetLuck-Featuring-Doug-Riverman-Allen.jpg
ORGANIZER;CN="The Writers' Colony at Dairy Hollow":MAILTO:info@writerscolony.org
END:VEVENT
END:VCALENDAR