BEGIN:VCALENDAR
VERSION:2.0
PRODID:-//The Writers&#039; Colony at Dairy Hollow - ECPv6.15.20//NONSGML v1.0//EN
CALSCALE:GREGORIAN
METHOD:PUBLISH
X-ORIGINAL-URL:https://writerscolony.org
X-WR-CALDESC:Events for The Writers&#039; Colony at Dairy Hollow
REFRESH-INTERVAL;VALUE=DURATION:PT1H
X-Robots-Tag:noindex
X-PUBLISHED-TTL:PT1H
BEGIN:VTIMEZONE
TZID:America/Chicago
BEGIN:DAYLIGHT
TZOFFSETFROM:-0600
TZOFFSETTO:-0500
TZNAME:CDT
DTSTART:20240310T080000
END:DAYLIGHT
BEGIN:STANDARD
TZOFFSETFROM:-0500
TZOFFSETTO:-0600
TZNAME:CST
DTSTART:20241103T070000
END:STANDARD
BEGIN:DAYLIGHT
TZOFFSETFROM:-0600
TZOFFSETTO:-0500
TZNAME:CDT
DTSTART:20250309T080000
END:DAYLIGHT
BEGIN:STANDARD
TZOFFSETFROM:-0500
TZOFFSETTO:-0600
TZNAME:CST
DTSTART:20251102T070000
END:STANDARD
BEGIN:DAYLIGHT
TZOFFSETFROM:-0600
TZOFFSETTO:-0500
TZNAME:CDT
DTSTART:20260308T080000
END:DAYLIGHT
BEGIN:STANDARD
TZOFFSETFROM:-0500
TZOFFSETTO:-0600
TZNAME:CST
DTSTART:20261101T070000
END:STANDARD
END:VTIMEZONE
BEGIN:VEVENT
DTSTART;TZID=America/Chicago:20250821T180000
DTEND;TZID=America/Chicago:20250821T200000
DTSTAMP:20260422T061716
CREATED:20250724T185818Z
LAST-MODIFIED:20250724T185818Z
UID:29159-1755799200-1755806400@writerscolony.org
SUMMARY:August Poetluck - Featuring Jim Dudley
DESCRIPTION:We’re excited to welcome featured guest Jim\, a local songwriter whose tunes are rooted in the people and history of the Ozarks. Jim picked up a guitar around age 40 and—without knowing exactly why—started writing songs that honor forgotten voices\, working folks\, and stories that don’t always make the headlines. Love songs? Not many. The last one may have ended in a divorce\, so he’s stuck mostly to anthems for the underdog. \nA longtime member of the Fayetteville songwriters circle\, Jim has released five albums\, attended a few camps\, and somehow even found his way to Lincoln Center (with a little help from the house band at Mountain View). No big accolades—just a genuine love for storytelling\, shared in song. And yes\, he might just give you a CD in exchange for a good story. \nJim will be accompanied by musician\, David Geneson. \nBring a dish\, bring a poem\, bring a friend. As always\, an open mic follows our featured guest—so come ready to share your own words\, songs\, or musings.
URL:https://writerscolony.org/event/august-poetluck-featuring-jim-dudley/
LOCATION:The Writers’ Colony at Dairy Hollow\, The Writers' Colony at Dairy Hollow\, Eureka Springs\, AR\, 72632\, United States
CATEGORIES:Poetluck
ATTACH;FMTTYPE=image/jpeg:https://writerscolony.org/wp-content/uploads/2025/07/August-2025-Poetluck-Featuring-Jim-Dudley.jpg
ORGANIZER;CN="The Writers' Colony at Dairy Hollow":MAILTO:info@writerscolony.org
END:VEVENT
END:VCALENDAR