BEGIN:VCALENDAR
VERSION:2.0
PRODID:-//The Writers&#039; Colony at Dairy Hollow - ECPv6.15.20//NONSGML v1.0//EN
CALSCALE:GREGORIAN
METHOD:PUBLISH
X-ORIGINAL-URL:https://writerscolony.org
X-WR-CALDESC:Events for The Writers&#039; Colony at Dairy Hollow
REFRESH-INTERVAL;VALUE=DURATION:PT1H
X-Robots-Tag:noindex
X-PUBLISHED-TTL:PT1H
BEGIN:VTIMEZONE
TZID:America/Chicago
BEGIN:DAYLIGHT
TZOFFSETFROM:-0600
TZOFFSETTO:-0500
TZNAME:CDT
DTSTART:20240310T080000
END:DAYLIGHT
BEGIN:STANDARD
TZOFFSETFROM:-0500
TZOFFSETTO:-0600
TZNAME:CST
DTSTART:20241103T070000
END:STANDARD
BEGIN:DAYLIGHT
TZOFFSETFROM:-0600
TZOFFSETTO:-0500
TZNAME:CDT
DTSTART:20250309T080000
END:DAYLIGHT
BEGIN:STANDARD
TZOFFSETFROM:-0500
TZOFFSETTO:-0600
TZNAME:CST
DTSTART:20251102T070000
END:STANDARD
BEGIN:DAYLIGHT
TZOFFSETFROM:-0600
TZOFFSETTO:-0500
TZNAME:CDT
DTSTART:20260308T080000
END:DAYLIGHT
BEGIN:STANDARD
TZOFFSETFROM:-0500
TZOFFSETTO:-0600
TZNAME:CST
DTSTART:20261101T070000
END:STANDARD
END:VTIMEZONE
BEGIN:VEVENT
DTSTART;TZID=America/Chicago:20250918T180000
DTEND;TZID=America/Chicago:20250918T200000
DTSTAMP:20260422T044653
CREATED:20250724T190413Z
LAST-MODIFIED:20250724T190517Z
UID:29162-1758218400-1758225600@writerscolony.org
SUMMARY:September Poetluck – Featuring Wendy Carlisle
DESCRIPTION:We are proud to feature Ozark poet Wendy Taylor Carlisle at our September Poetluck. Carlile is the author of four books and five chapbooks and is the 2020 winner of the Phillip H. McMath Poetry Award for the fourth book\, The Mercy of Traffic. Her most recent work appears in Wild Muse: Ozarks Nature Poetry(Cornerpost Press\, 2023.) Find more about her at www.wendytaylorcarlisle.com. \nWe are delighted to invite you to attend Poetluck\, an open mic style poetry reading event that takes place at The Writers’ Colony at Dairy Hollow (WCDH). Poetluck provides a supportive and inclusive space for writers to share their work and connect with fellow literary enthusiasts in the community. We welcome writers of all genres and experience levels to join us and share their poems\, stories\, and essays with our audience. The evening starts with a potluck meal at 6:00 PM\, bring a dish to share or not\, there is always enough. The open mic style readings start at 6:30 PM. \nDori Thomas says of WCDH\, “What a blessing to have this organization in our little town!” \nFor more information and registration details\, please visit the Writers’ Colony at Dairy Hollow website at www.writerscolony.org/events or call (479)253-7444.
URL:https://writerscolony.org/event/september-poetluck-featuring-wendy-carlisle/
LOCATION:The Writers’ Colony at Dairy Hollow\, The Writers' Colony at Dairy Hollow\, Eureka Springs\, AR\, 72632\, United States
CATEGORIES:Poetluck
ATTACH;FMTTYPE=image/jpeg:https://writerscolony.org/wp-content/uploads/2025/07/September-2025-Poetluck-Featuring-Wendy-Carlisle.jpg
ORGANIZER;CN="The Writers' Colony at Dairy Hollow":MAILTO:info@writerscolony.org
END:VEVENT
END:VCALENDAR