BEGIN:VCALENDAR
VERSION:2.0
PRODID:-//The Writers&#039; Colony at Dairy Hollow - ECPv6.15.20//NONSGML v1.0//EN
CALSCALE:GREGORIAN
METHOD:PUBLISH
X-ORIGINAL-URL:https://writerscolony.org
X-WR-CALDESC:Events for The Writers&#039; Colony at Dairy Hollow
REFRESH-INTERVAL;VALUE=DURATION:PT1H
X-Robots-Tag:noindex
X-PUBLISHED-TTL:PT1H
BEGIN:VTIMEZONE
TZID:America/Chicago
BEGIN:DAYLIGHT
TZOFFSETFROM:-0600
TZOFFSETTO:-0500
TZNAME:CDT
DTSTART:20240310T080000
END:DAYLIGHT
BEGIN:STANDARD
TZOFFSETFROM:-0500
TZOFFSETTO:-0600
TZNAME:CST
DTSTART:20241103T070000
END:STANDARD
BEGIN:DAYLIGHT
TZOFFSETFROM:-0600
TZOFFSETTO:-0500
TZNAME:CDT
DTSTART:20250309T080000
END:DAYLIGHT
BEGIN:STANDARD
TZOFFSETFROM:-0500
TZOFFSETTO:-0600
TZNAME:CST
DTSTART:20251102T070000
END:STANDARD
BEGIN:DAYLIGHT
TZOFFSETFROM:-0600
TZOFFSETTO:-0500
TZNAME:CDT
DTSTART:20260308T080000
END:DAYLIGHT
BEGIN:STANDARD
TZOFFSETFROM:-0500
TZOFFSETTO:-0600
TZNAME:CST
DTSTART:20261101T070000
END:STANDARD
END:VTIMEZONE
BEGIN:VEVENT
DTSTART;TZID=America/Chicago:20251016T180000
DTEND;TZID=America/Chicago:20251016T200000
DTSTAMP:20260422T044448
CREATED:20250925T154138Z
LAST-MODIFIED:20250925T160629Z
UID:29836-1760637600-1760644800@writerscolony.org
SUMMARY:Don’t Miss Poetluck Eureka Springs – October 16\, 2025 | Writers’ Colony
DESCRIPTION:Poetluck Eureka Springs returns on October 16\, 2025\, featuring acclaimed poet Alicia Swain. Join us at the Writers’ Colony at Dairy Hollow for an evening of food\, fellowship\, and the written word. \nSwain’s work has appeared in Vast Chasm\, The Vehicle\, and more. Her poetry is sharp\, feminist\, and fierce\, weaving nature and the human experience with unapologetic fire. She will share selections from her collection Steel Slides and Yellow Walls\, praised for its bold and unflinching voice. \nAbout Poetluck\nPoetluck is the Writers’ Colony at Dairy Hollow’s monthly community open mic—an inclusive space for writers of all levels and genres. Bring a poem\, story\, or essay to share\, or simply come to listen and enjoy. \nThe evening begins with a potluck meal at 6:00 PM (bring a dish if you can—there’s always plenty to go around). Readings begin at 6:30 PM. \nWhy Attend Poetluck Eureka Springs?\nPoetluck connects residents\, alumni\, and community members through food and storytelling. It’s a welcoming tradition that reflects the Writers’ Colony’s mission: supporting writers and fostering a vibrant literary culture in Eureka Springs. \nEach Poetluck celebrates creativity\, friendship\, and the shared power of words. \nFinal Poetluck of the 2025 Season\nDon’t miss October Poetluck in Eureka Springs—the final gathering of the year! Celebrate community\, creativity\, and connection at the Writers’ Colony\, where every voice matters and every story has a place.
URL:https://writerscolony.org/event/poetluck-thursday-october-16th-at-6-featuring-alicia-swain/
LOCATION:The Writers’ Colony at Dairy Hollow\, The Writers' Colony at Dairy Hollow\, Eureka Springs\, AR\, 72632\, United States
CATEGORIES:Poetluck
ATTACH;FMTTYPE=image/jpeg:https://writerscolony.org/wp-content/uploads/2025/09/Alicia-Swain-Graphic.jpg
ORGANIZER;CN="The Writers' Colony at Dairy Hollow":MAILTO:info@writerscolony.org
END:VEVENT
END:VCALENDAR