BEGIN:VCALENDAR
VERSION:2.0
PRODID:-//The Writers&#039; Colony at Dairy Hollow - ECPv6.15.20//NONSGML v1.0//EN
CALSCALE:GREGORIAN
METHOD:PUBLISH
X-WR-CALNAME:The Writers&#039; Colony at Dairy Hollow
X-ORIGINAL-URL:https://writerscolony.org
X-WR-CALDESC:Events for The Writers&#039; Colony at Dairy Hollow
REFRESH-INTERVAL;VALUE=DURATION:PT1H
X-Robots-Tag:noindex
X-PUBLISHED-TTL:PT1H
BEGIN:VTIMEZONE
TZID:America/Chicago
BEGIN:DAYLIGHT
TZOFFSETFROM:-0600
TZOFFSETTO:-0500
TZNAME:CDT
DTSTART:20240310T080000
END:DAYLIGHT
BEGIN:STANDARD
TZOFFSETFROM:-0500
TZOFFSETTO:-0600
TZNAME:CST
DTSTART:20241103T070000
END:STANDARD
BEGIN:DAYLIGHT
TZOFFSETFROM:-0600
TZOFFSETTO:-0500
TZNAME:CDT
DTSTART:20250309T080000
END:DAYLIGHT
BEGIN:STANDARD
TZOFFSETFROM:-0500
TZOFFSETTO:-0600
TZNAME:CST
DTSTART:20251102T070000
END:STANDARD
BEGIN:DAYLIGHT
TZOFFSETFROM:-0600
TZOFFSETTO:-0500
TZNAME:CDT
DTSTART:20260308T080000
END:DAYLIGHT
BEGIN:STANDARD
TZOFFSETFROM:-0500
TZOFFSETTO:-0600
TZNAME:CST
DTSTART:20261101T070000
END:STANDARD
END:VTIMEZONE
BEGIN:VEVENT
DTSTART;TZID=America/Chicago:20250320T180000
DTEND;TZID=America/Chicago:20250320T200000
DTSTAMP:20260422T183603
CREATED:20250215T234136Z
LAST-MODIFIED:20250216T210654Z
UID:21785-1742493600-1742500800@writerscolony.org
SUMMARY:March Poetluck -  Featuring Charles Templeton
DESCRIPTION:WCDH is proud to bring Charles Templeton to WCDH for our March Poetluck. Charles is the author of the award-winning\, best-selling novel Boot: A Sorta Novel of Vietnam. He has also edited The Miracle in the Woods\, an anthology celebrating Clear Spring School. Most recently\, he collaborated with poet Bill McCloud to publish a collection of poetry\, The Error of the Stars. \nAfter a distinguished career in coaching and teaching in Texas\, Charles Templeton retired to the enchanting town of Eureka Springs\, Arkansas\, with his wife and creative inspiration\, Sandra. A dedicated advocate for the literary arts\, Charles served on the Writers’ Colony at Dairy Hollow board for a decade. During his tenure\, he founded eMerge Magazine\, an online publication that showcases the work of both emerging and established writers. \nTo commemorate the Writers’ Colony’s twentieth anniversary\, Charles compiled and edited The Dairy Hollow Echo\, an anthology featuring some of the finest works published in eMerge. Upon stepping down from the board\, he was honored with the title of Editor Emeritus for his exceptional contributions. \nWe are delighted to invite you to attend Poetluck\, an open mic style poetry reading event at The Writers’ Colony at Dairy Hollow (WCDH). Poetluck provides a supportive and inclusive space for writers to share their work and connect with fellow literary enthusiasts in the community. We welcome writers of all genres and experience levels to join us and share their poems\, stories\, and essays with our audience. The evening starts with a potluck meal at 6:00 PM\, bring a dish to share or not\, there is always enough. The open mic style readings start at 6:30 PM.
URL:https://writerscolony.org/event/march-poetluck-featuring-charles-templeton/
LOCATION:The Writers’ Colony at Dairy Hollow\, The Writers' Colony at Dairy Hollow\, Eureka Springs\, AR\, 72632\, United States
CATEGORIES:Poetluck
ATTACH;FMTTYPE=image/webp:https://writerscolony.org/wp-content/uploads/2025/02/March-Poetluck-Featuring-Charles-Templeton.webp
ORGANIZER;CN="The Writers' Colony at Dairy Hollow":MAILTO:info@writerscolony.org
END:VEVENT
END:VCALENDAR