BEGIN:VCALENDAR
VERSION:2.0
PRODID:-//The Writers&#039; Colony at Dairy Hollow - ECPv6.15.20//NONSGML v1.0//EN
CALSCALE:GREGORIAN
METHOD:PUBLISH
X-WR-CALNAME:The Writers&#039; Colony at Dairy Hollow
X-ORIGINAL-URL:https://writerscolony.org
X-WR-CALDESC:Events for The Writers&#039; Colony at Dairy Hollow
REFRESH-INTERVAL;VALUE=DURATION:PT1H
X-Robots-Tag:noindex
X-PUBLISHED-TTL:PT1H
BEGIN:VTIMEZONE
TZID:America/Chicago
BEGIN:DAYLIGHT
TZOFFSETFROM:-0600
TZOFFSETTO:-0500
TZNAME:CDT
DTSTART:20240310T080000
END:DAYLIGHT
BEGIN:STANDARD
TZOFFSETFROM:-0500
TZOFFSETTO:-0600
TZNAME:CST
DTSTART:20241103T070000
END:STANDARD
BEGIN:DAYLIGHT
TZOFFSETFROM:-0600
TZOFFSETTO:-0500
TZNAME:CDT
DTSTART:20250309T080000
END:DAYLIGHT
BEGIN:STANDARD
TZOFFSETFROM:-0500
TZOFFSETTO:-0600
TZNAME:CST
DTSTART:20251102T070000
END:STANDARD
BEGIN:DAYLIGHT
TZOFFSETFROM:-0600
TZOFFSETTO:-0500
TZNAME:CDT
DTSTART:20260308T080000
END:DAYLIGHT
BEGIN:STANDARD
TZOFFSETFROM:-0500
TZOFFSETTO:-0600
TZNAME:CST
DTSTART:20261101T070000
END:STANDARD
END:VTIMEZONE
BEGIN:VEVENT
DTSTART;TZID=America/Chicago:20250619T180000
DTEND;TZID=America/Chicago:20250619T200000
DTSTAMP:20260422T104529
CREATED:20250528T223735Z
LAST-MODIFIED:20250530T193130Z
UID:26014-1750356000-1750363200@writerscolony.org
SUMMARY:June Poetluck - Featuring Author\, Patricia Evans
DESCRIPTION:Patricia Evans\, (Evans\, They/Them\,) is the author of ten bestselling novels in the Travel Romance genre\, all with an emphasis on modern queer culture and strong characterization. \nEvans is currently working in television and is contracted as the Lead Dialogist for the House of the Dragon series\, HBO’s biggest show. \nBefore they started their career in creative writing\, they worked for Esteé Lauder as a fragrance scientist\, which shows in the raw sensuality of their writing. Evans weaves scent and memory into each story and focuses on each character’s experience to draw the reader into what they create together as the story unfolds. \nEvans has a notoriously loyal fan base that refers to themselves as the “Inkslingers\,” a nod to Evans’ nickname as the Tomboy Inkslinger and their unique focus on creating not for the reader but with them. \nWe are delighted to invite you to attend Poetluck\, an open mic style poetry…
URL:https://writerscolony.org/event/june-poetluck-featuring-author-patricia-evans/
LOCATION:The Writers’ Colony at Dairy Hollow\, The Writers' Colony at Dairy Hollow\, Eureka Springs\, AR\, 72632\, United States
CATEGORIES:Poetluck
ATTACH;FMTTYPE=image/jpeg:https://writerscolony.org/wp-content/uploads/2025/05/June-2025-Poetluck-Featuring-Author-Patricia-Evans.jpg
ORGANIZER;CN="The Writers' Colony at Dairy Hollow":MAILTO:info@writerscolony.org
END:VEVENT
END:VCALENDAR