BEGIN:VCALENDAR
VERSION:2.0
PRODID:-//The Writers&#039; Colony at Dairy Hollow - ECPv6.15.20//NONSGML v1.0//EN
CALSCALE:GREGORIAN
METHOD:PUBLISH
X-ORIGINAL-URL:https://writerscolony.org
X-WR-CALDESC:Events for The Writers&#039; Colony at Dairy Hollow
REFRESH-INTERVAL;VALUE=DURATION:PT1H
X-Robots-Tag:noindex
X-PUBLISHED-TTL:PT1H
BEGIN:VTIMEZONE
TZID:America/Chicago
BEGIN:DAYLIGHT
TZOFFSETFROM:-0600
TZOFFSETTO:-0500
TZNAME:CDT
DTSTART:20250309T080000
END:DAYLIGHT
BEGIN:STANDARD
TZOFFSETFROM:-0500
TZOFFSETTO:-0600
TZNAME:CST
DTSTART:20251102T070000
END:STANDARD
BEGIN:DAYLIGHT
TZOFFSETFROM:-0600
TZOFFSETTO:-0500
TZNAME:CDT
DTSTART:20260308T080000
END:DAYLIGHT
BEGIN:STANDARD
TZOFFSETFROM:-0500
TZOFFSETTO:-0600
TZNAME:CST
DTSTART:20261101T070000
END:STANDARD
BEGIN:DAYLIGHT
TZOFFSETFROM:-0600
TZOFFSETTO:-0500
TZNAME:CDT
DTSTART:20270314T080000
END:DAYLIGHT
BEGIN:STANDARD
TZOFFSETFROM:-0500
TZOFFSETTO:-0600
TZNAME:CST
DTSTART:20271107T070000
END:STANDARD
END:VTIMEZONE
BEGIN:VEVENT
DTSTART;TZID=America/Chicago:20260319T180000
DTEND;TZID=America/Chicago:20260319T200000
DTSTAMP:20260421T180131
CREATED:20260213T204757Z
LAST-MODIFIED:20260213T205807Z
UID:30330-1773943200-1773950400@writerscolony.org
SUMMARY:Poetluck Featuring Zeek Taylor
DESCRIPTION:Poetluck- Zeek Taylor returns to the Writers’ Colony at Dairy Hollow in Eureka Springs on Thursday\, March 19\, 2026.\nThe Writers’ Colony at Dairy Hollow is honored to present our March Poetluck\, featuring award-winning artist\, author\, and storyteller Zeek Taylor. \nZeek Taylor is the recipient of the Arkansas Governor’s Arts Award for Lifetime Achievement and is widely known for his distinguished career as a visual artist\, author\, and public speaker. His storytelling has reached audiences across the globe through performances on NPR’s Tales from the South and a StoryCorps interview preserved in the Library of Congress. He is the author of four books\, including his most recent release\, Out of the Delta\, the Anthology\, a collection of autobiographical short stories. A long-time resident of Eureka Springs\, Zeek holds a special connection to the Writers’ Colony\, where a suite has been dedicated in his honor. \nPoetluck is a beloved community gathering that brings writers\, readers\, and literary enthusiasts together in a warm and welcoming environment. The evening begins with a potluck meal at 6:00 PM\, followed by open mic readings at 6:30 PM. Guests are invited to bring a dish to share if they wish\, though it is not required. \nWriters of all genres and experience levels are encouraged to participate in the open mic and share poetry\, prose\, or works-in-progress. Poetluck offers a supportive space to connect\, listen\, and celebrate the written word in community. \nThis event is free and open to the public. \nInterested in staying overnight at the Colony?Contact coordinator@writerscolony.org to inquire about suite availability.
URL:https://writerscolony.org/event/poetluck-zeek-taylor-march-2026/
LOCATION:The Writers’ Colony at Dairy Hollow\, The Writers' Colony at Dairy Hollow\, Eureka Springs\, AR\, 72632\, United States
CATEGORIES:Poetluck
ATTACH;FMTTYPE=image/png:https://writerscolony.org/wp-content/uploads/2026/02/Poetluck-September-2025-1200-x-630-px.png
END:VEVENT
END:VCALENDAR